BEGIN:VCALENDAR
VERSION:2.0
PRODID:-//hacksw/handcal//NONSGML v1.0//EN
BEGIN:VEVENT
DTSTART:20260611T083000
DTEND:20260612T170000
LOCATION:Siège de la CASDEN à Champs-sur-Marne (77 420) \n1 Bis, Rue Jean Wiener \n77420 CHAMPS-SUR-MARNE
ORGANIZER;CN=Dpp CRGN:MAILTO:dpp.crgn@gmail.com
SUMMARY:PEPs : Lutte contre la pédocriminalité
DESCRIPTION:Les 11 & 12 juin 2026, le CRGN organise le modèle de réflexion PEPs sur la lutte contre la pédocriminalité.\nQuestion de recherche : Quels nouveaux leviers de prévention, de détection et de régulation...
URL:https://www.letreflegend.org/fr/event/peps-lutte-contre-la-pedocriminalite/2026/06/11/91
BEGIN:VALARM
TRIGGER:-P0DT1H0M0S
ACTION:DISPLAY
END:VALARM
END:VEVENT
END:VCALENDAR